Package: ASURAT Version: 1.10.0 Command: /home/biocbuild/R/R/bin/R CMD INSTALL ASURAT StartedAt: 2025-02-03 20:51:13 -0000 (Mon, 03 Feb 2025) EndedAt: 2025-02-03 20:51:54 -0000 (Mon, 03 Feb 2025) EllapsedTime: 40.5 seconds RetCode: 0 Status: OK