Package: ATACCoGAPS Version: 1.8.0 Command: /home/biocbuild/bbs-3.20-bioc/R/bin/R CMD INSTALL ATACCoGAPS StartedAt: 2025-01-30 15:48:40 -0500 (Thu, 30 Jan 2025) EndedAt: 2025-01-30 15:49:44 -0500 (Thu, 30 Jan 2025) EllapsedTime: 64.2 seconds RetCode: 0 Status: OK