Package: ATACCoGAPS Version: 1.8.0 Command: /home/biocbuild/R/R/bin/R CMD INSTALL ATACCoGAPS StartedAt: 2025-02-03 21:11:07 -0000 (Mon, 03 Feb 2025) EndedAt: 2025-02-03 21:12:13 -0000 (Mon, 03 Feb 2025) EllapsedTime: 66.9 seconds RetCode: 0 Status: OK