Package: ATACseqTFEA Version: 1.8.0 Command: /Library/Frameworks/R.framework/Resources/bin/R CMD build --keep-empty-dirs --no-resave-data ATACseqTFEA StartedAt: 2025-02-03 18:52:46 -0500 (Mon, 03 Feb 2025) EndedAt: 2025-02-03 18:54:51 -0500 (Mon, 03 Feb 2025) EllapsedTime: 125.6 seconds RetCode: 0 Status: OK PackageFile: ATACseqTFEA_1.8.0.tar.gz PackageFileSize: 4.41 MiB