Package: ATACseqTFEA Version: 1.8.0 Command: rm -rf ATACseqTFEA.buildbin-libdir && mkdir ATACseqTFEA.buildbin-libdir && /Users/biocbuild/BBS/utils/build-universal.sh ATACseqTFEA_1.8.0.tar.gz /Library/Frameworks/R.framework/Resources/bin/R ATACseqTFEA.buildbin-libdir StartedAt: 2025-02-04 12:28:47 -0500 (Tue, 04 Feb 2025) EndedAt: 2025-02-04 12:30:25 -0500 (Tue, 04 Feb 2025) EllapsedTime: 98.6 seconds RetCode: 0 Status: OK PackageFile: ATACseqTFEA_1.8.0.tgz PackageFileSize: 4.893 MiB