Package: ATACseqTFEA Version: 1.8.0 Command: /Library/Frameworks/R.framework/Resources/bin/R CMD check --install=check:ATACseqTFEA.install-out.txt --library=/Library/Frameworks/R.framework/Resources/library --no-vignettes --timings ATACseqTFEA_1.8.0.tar.gz StartedAt: 2025-02-03 23:49:23 -0500 (Mon, 03 Feb 2025) EndedAt: 2025-02-04 00:04:07 -0500 (Tue, 04 Feb 2025) EllapsedTime: 884.4 seconds RetCode: 0 Status: OK CheckDir: ATACseqTFEA.Rcheck Warnings: 0