Package: ATACseqTFEA Version: 1.8.0 Command: /home/biocbuild/bbs-3.20-bioc/R/bin/R CMD build --keep-empty-dirs --no-resave-data --md5 ATACseqTFEA StartedAt: 2025-02-03 16:22:35 -0500 (Mon, 03 Feb 2025) EndedAt: 2025-02-03 16:24:28 -0500 (Mon, 03 Feb 2025) EllapsedTime: 113.1 seconds RetCode: 0 Status: OK PackageFile: ATACseqTFEA_1.8.0.tar.gz PackageFileSize: 4.473 MiB