Package: ATACseqTFEA Version: 1.8.0 Command: rm -rf ATACseqTFEA.buildbin-libdir && mkdir ATACseqTFEA.buildbin-libdir && F:\biocbuild\bbs-3.20-bioc\R\bin\R.exe CMD INSTALL --build --library=ATACseqTFEA.buildbin-libdir ATACseqTFEA_1.8.0.tar.gz StartedAt: 2025-02-04 07:59:35 -0500 (Tue, 04 Feb 2025) EndedAt: 2025-02-04 08:00:57 -0500 (Tue, 04 Feb 2025) EllapsedTime: 81.7 seconds RetCode: 0 Status: OK PackageFile: ATACseqTFEA_1.8.0.zip PackageFileSize: 4.785 MiB