Package: ATACseqTFEA Version: 1.8.0 Command: chmod a+r ATACseqTFEA -R && F:\biocbuild\bbs-3.20-bioc\R\bin\R.exe CMD build --keep-empty-dirs --no-resave-data ATACseqTFEA StartedAt: 2025-02-03 17:33:40 -0500 (Mon, 03 Feb 2025) EndedAt: 2025-02-03 17:36:15 -0500 (Mon, 03 Feb 2025) EllapsedTime: 154.4 seconds RetCode: 0 Status: OK PackageFile: ATACseqTFEA_1.8.0.tar.gz PackageFileSize: 4.303 MiB