Package: ATACseqTFEA Version: 1.8.0 Command: F:\biocbuild\bbs-3.20-bioc\R\bin\R.exe CMD check --no-multiarch --install=check:ATACseqTFEA.install-out.txt --library=F:\biocbuild\bbs-3.20-bioc\R\library --no-vignettes --timings ATACseqTFEA_1.8.0.tar.gz StartedAt: 2025-02-03 23:14:17 -0500 (Mon, 03 Feb 2025) EndedAt: 2025-02-03 23:22:19 -0500 (Mon, 03 Feb 2025) EllapsedTime: 481.7 seconds RetCode: 0 Status: OK CheckDir: ATACseqTFEA.Rcheck Warnings: 0