Package: ATACseqTFEA Version: 1.8.0 Command: /home/biocbuild/R/R/bin/R CMD build --keep-empty-dirs --no-resave-data ATACseqTFEA StartedAt: 2025-02-03 21:40:49 -0000 (Mon, 03 Feb 2025) EndedAt: 2025-02-03 21:43:12 -0000 (Mon, 03 Feb 2025) EllapsedTime: 143.0 seconds RetCode: 0 Status: OK PackageFile: ATACseqTFEA_1.8.0.tar.gz PackageFileSize: 4.42 MiB