Package: ATACseqTFEA Version: 1.8.0 Command: /home/biocbuild/R/R/bin/R CMD check --install=check:ATACseqTFEA.install-out.txt --library=/home/biocbuild/R/R/site-library --no-vignettes --timings ATACseqTFEA_1.8.0.tar.gz StartedAt: 2025-02-04 04:28:08 -0000 (Tue, 04 Feb 2025) EndedAt: 2025-02-04 04:38:48 -0000 (Tue, 04 Feb 2025) EllapsedTime: 640.3 seconds RetCode: 0 Status: OK CheckDir: ATACseqTFEA.Rcheck Warnings: 0