Package: ATACseqTFEA Version: 1.8.0 Command: /home/biocbuild/R/R/bin/R CMD INSTALL ATACseqTFEA StartedAt: 2025-02-03 20:45:23 -0000 (Mon, 03 Feb 2025) EndedAt: 2025-02-03 20:46:20 -0000 (Mon, 03 Feb 2025) EllapsedTime: 57.1 seconds RetCode: 0 Status: OK