Package: AgiMicroRna Version: 2.56.0 Command: /Library/Frameworks/R.framework/Resources/bin/R CMD build --keep-empty-dirs --no-resave-data AgiMicroRna StartedAt: 2025-02-03 18:29:06 -0500 (Mon, 03 Feb 2025) EndedAt: 2025-02-03 18:32:00 -0500 (Mon, 03 Feb 2025) EllapsedTime: 174.1 seconds RetCode: 0 Status: OK PackageFile: AgiMicroRna_2.56.0.tar.gz PackageFileSize: 3.067 MiB