Package: AgiMicroRna Version: 2.56.0 Command: /Library/Frameworks/R.framework/Resources/bin/R CMD INSTALL AgiMicroRna StartedAt: 2025-02-03 17:37:23 -0500 (Mon, 03 Feb 2025) EndedAt: 2025-02-03 17:38:39 -0500 (Mon, 03 Feb 2025) EllapsedTime: 75.5 seconds RetCode: 0 Status: OK