Package: AgiMicroRna Version: 2.56.0 Command: /Library/Frameworks/R.framework/Resources/bin/R CMD check --install=check:AgiMicroRna.install-out.txt --library=/Library/Frameworks/R.framework/Resources/library --no-vignettes --timings AgiMicroRna_2.56.0.tar.gz StartedAt: 2025-02-03 23:31:25 -0500 (Mon, 03 Feb 2025) EndedAt: 2025-02-03 23:45:31 -0500 (Mon, 03 Feb 2025) EllapsedTime: 846.7 seconds RetCode: 0 Status: WARNINGS CheckDir: AgiMicroRna.Rcheck Warnings: 1