Package: AgiMicroRna Version: 2.56.0 Command: /Library/Frameworks/R.framework/Resources/bin/R CMD INSTALL AgiMicroRna StartedAt: 2025-02-03 16:32:17 -0500 (Mon, 03 Feb 2025) EndedAt: 2025-02-03 16:34:28 -0500 (Mon, 03 Feb 2025) EllapsedTime: 130.8 seconds RetCode: 0 Status: OK