Package: AgiMicroRna Version: 2.56.0 Command: /home/biocbuild/R/R/bin/R CMD check --install=check:AgiMicroRna.install-out.txt --library=/home/biocbuild/R/R/site-library --no-vignettes --timings AgiMicroRna_2.56.0.tar.gz StartedAt: 2025-02-04 04:13:51 -0000 (Tue, 04 Feb 2025) EndedAt: 2025-02-04 04:23:48 -0000 (Tue, 04 Feb 2025) EllapsedTime: 597.6 seconds RetCode: 0 Status: WARNINGS CheckDir: AgiMicroRna.Rcheck Warnings: 1