Package: AllelicImbalance Version: 1.44.0 Command: rm -rf AllelicImbalance.buildbin-libdir && mkdir AllelicImbalance.buildbin-libdir && /Users/biocbuild/BBS/utils/build-universal.sh AllelicImbalance_1.44.0.tar.gz /Library/Frameworks/R.framework/Resources/bin/R AllelicImbalance.buildbin-libdir StartedAt: 2025-02-01 13:51:41 -0500 (Sat, 01 Feb 2025) EndedAt: 2025-02-01 13:52:52 -0500 (Sat, 01 Feb 2025) EllapsedTime: 70.2 seconds RetCode: 0 Status: OK PackageFile: AllelicImbalance_1.44.0.tgz PackageFileSize: 1.226 MiB