Package: AllelicImbalance Version: 1.44.0 Command: rm -rf AllelicImbalance.buildbin-libdir && mkdir AllelicImbalance.buildbin-libdir && /Users/biocbuild/BBS/utils/build-universal.sh AllelicImbalance_1.44.0.tar.gz /Library/Frameworks/R.framework/Resources/bin/R AllelicImbalance.buildbin-libdir StartedAt: 2025-01-31 12:18:54 -0500 (Fri, 31 Jan 2025) EndedAt: 2025-01-31 12:20:56 -0500 (Fri, 31 Jan 2025) EllapsedTime: 122.3 seconds RetCode: 0 Status: OK PackageFile: AllelicImbalance_1.44.0.tgz PackageFileSize: 1.226 MiB