Package: AllelicImbalance Version: 1.44.0 Command: /Library/Frameworks/R.framework/Resources/bin/R CMD INSTALL AllelicImbalance StartedAt: 2025-01-30 16:06:02 -0500 (Thu, 30 Jan 2025) EndedAt: 2025-01-30 16:08:01 -0500 (Thu, 30 Jan 2025) EllapsedTime: 119.5 seconds RetCode: 0 Status: OK