Package: AllelicImbalance Version: 1.44.0 Command: /home/biocbuild/bbs-3.20-bioc/R/bin/R CMD build --keep-empty-dirs --no-resave-data --md5 AllelicImbalance StartedAt: 2025-02-03 16:18:56 -0500 (Mon, 03 Feb 2025) EndedAt: 2025-02-03 16:21:40 -0500 (Mon, 03 Feb 2025) EllapsedTime: 163.2 seconds RetCode: 0 Status: OK PackageFile: AllelicImbalance_1.44.0.tar.gz PackageFileSize: 779.3 KiB