Package: AllelicImbalance Version: 1.44.0 Command: /home/biocbuild/bbs-3.20-bioc/R/bin/R CMD check --install=check:AllelicImbalance.install-out.txt --library=/home/biocbuild/bbs-3.20-bioc/R/site-library --timings AllelicImbalance_1.44.0.tar.gz StartedAt: 2025-02-03 20:00:10 -0500 (Mon, 03 Feb 2025) EndedAt: 2025-02-03 20:08:55 -0500 (Mon, 03 Feb 2025) EllapsedTime: 524.7 seconds RetCode: 0 Status: OK CheckDir: AllelicImbalance.Rcheck Warnings: 0