Package: AllelicImbalance Version: 1.44.0 Command: /home/biocbuild/bbs-3.20-bioc/R/bin/R CMD INSTALL AllelicImbalance StartedAt: 2025-02-03 15:46:17 -0500 (Mon, 03 Feb 2025) EndedAt: 2025-02-03 15:47:22 -0500 (Mon, 03 Feb 2025) EllapsedTime: 64.4 seconds RetCode: 0 Status: OK