Package: AllelicImbalance Version: 1.44.0 Command: /home/biocbuild/R/R/bin/R CMD build --keep-empty-dirs --no-resave-data AllelicImbalance StartedAt: 2025-01-30 21:29:43 -0000 (Thu, 30 Jan 2025) EndedAt: 2025-01-30 21:32:26 -0000 (Thu, 30 Jan 2025) EllapsedTime: 163.1 seconds RetCode: 0 Status: OK PackageFile: AllelicImbalance_1.44.0.tar.gz PackageFileSize: 767.3 KiB