Package: AllelicImbalance Version: 1.44.0 Command: /home/biocbuild/R/R/bin/R CMD check --install=check:AllelicImbalance.install-out.txt --library=/home/biocbuild/R/R/site-library --no-vignettes --timings AllelicImbalance_1.44.0.tar.gz StartedAt: 2025-01-31 03:45:56 -0000 (Fri, 31 Jan 2025) EndedAt: 2025-01-31 03:55:42 -0000 (Fri, 31 Jan 2025) EllapsedTime: 586.2 seconds RetCode: 0 Status: OK CheckDir: AllelicImbalance.Rcheck Warnings: 0