Package: AlphaBeta Version: 1.20.0 Command: /Library/Frameworks/R.framework/Resources/bin/R CMD INSTALL AlphaBeta StartedAt: 2025-02-03 16:44:45 -0500 (Mon, 03 Feb 2025) EndedAt: 2025-02-03 16:45:00 -0500 (Mon, 03 Feb 2025) EllapsedTime: 15.0 seconds RetCode: 0 Status: OK