Package: AlphaBeta Version: 1.20.0 Command: /home/biocbuild/bbs-3.20-bioc/R/bin/R CMD INSTALL AlphaBeta StartedAt: 2025-02-10 15:39:49 -0500 (Mon, 10 Feb 2025) EndedAt: 2025-02-10 15:40:01 -0500 (Mon, 10 Feb 2025) EllapsedTime: 11.8 seconds RetCode: 0 Status: OK