Package: AlphaBeta Version: 1.20.0 Command: chmod a+r AlphaBeta -R && F:\biocbuild\bbs-3.20-bioc\R\bin\R.exe CMD build --keep-empty-dirs --no-resave-data AlphaBeta StartedAt: 2025-02-03 17:27:35 -0500 (Mon, 03 Feb 2025) EndedAt: 2025-02-03 17:33:40 -0500 (Mon, 03 Feb 2025) EllapsedTime: 365.6 seconds RetCode: 0 Status: OK PackageFile: AlphaBeta_1.20.0.tar.gz PackageFileSize: 2.475 MiB