Package: AlphaBeta Version: 1.20.0 Command: F:\biocbuild\bbs-3.20-bioc\R\bin\R.exe CMD check --no-multiarch --install=check:AlphaBeta.install-out.txt --library=F:\biocbuild\bbs-3.20-bioc\R\library --no-vignettes --timings AlphaBeta_1.20.0.tar.gz StartedAt: 2025-02-03 23:05:25 -0500 (Mon, 03 Feb 2025) EndedAt: 2025-02-03 23:14:15 -0500 (Mon, 03 Feb 2025) EllapsedTime: 530.8 seconds RetCode: 0 Status: OK CheckDir: AlphaBeta.Rcheck Warnings: 0