Package: AlphaBeta Version: 1.20.0 Command: /home/biocbuild/R/R/bin/R CMD check --install=check:AlphaBeta.install-out.txt --library=/home/biocbuild/R/R/site-library --no-vignettes --timings AlphaBeta_1.20.0.tar.gz StartedAt: 2025-02-04 04:16:29 -0000 (Tue, 04 Feb 2025) EndedAt: 2025-02-04 04:30:05 -0000 (Tue, 04 Feb 2025) EllapsedTime: 816.0 seconds RetCode: 0 Status: OK CheckDir: AlphaBeta.Rcheck Warnings: 0