Package: AlphaBeta Version: 1.20.0 Command: /home/biocbuild/R/R/bin/R CMD INSTALL AlphaBeta StartedAt: 2025-02-03 20:56:16 -0000 (Mon, 03 Feb 2025) EndedAt: 2025-02-03 20:56:33 -0000 (Mon, 03 Feb 2025) EllapsedTime: 17.8 seconds RetCode: 0 Status: OK