Package: AnVILAz Version: 1.0.0 Command: /Library/Frameworks/R.framework/Resources/bin/R CMD build --keep-empty-dirs --no-resave-data AnVILAz StartedAt: 2025-02-10 18:53:44 -0500 (Mon, 10 Feb 2025) EndedAt: 2025-02-10 18:53:56 -0500 (Mon, 10 Feb 2025) EllapsedTime: 11.4 seconds RetCode: 0 Status: OK PackageFile: AnVILAz_1.0.0.tar.gz PackageFileSize: 826 KiB