Package: AnVILAz Version: 1.0.0 Command: /Library/Frameworks/R.framework/Resources/bin/R CMD INSTALL AnVILAz StartedAt: 2025-02-10 15:10:48 -0500 (Mon, 10 Feb 2025) EndedAt: 2025-02-10 15:11:13 -0500 (Mon, 10 Feb 2025) EllapsedTime: 25.0 seconds RetCode: 0 Status: OK