Package: AnVILAz Version: 1.0.0 Command: /home/biocbuild/R/R/bin/R CMD check --install=check:AnVILAz.install-out.txt --library=/home/biocbuild/R/R/site-library --no-vignettes --timings AnVILAz_1.0.0.tar.gz StartedAt: 2025-02-11 03:44:19 -0000 (Tue, 11 Feb 2025) EndedAt: 2025-02-11 03:44:51 -0000 (Tue, 11 Feb 2025) EllapsedTime: 32.0 seconds RetCode: 0 Status: OK CheckDir: AnVILAz.Rcheck Warnings: 0