Package: AnVILAz Version: 1.0.0 Command: /home/biocbuild/R/R/bin/R CMD INSTALL AnVILAz StartedAt: 2025-02-03 20:34:28 -0000 (Mon, 03 Feb 2025) EndedAt: 2025-02-03 20:34:36 -0000 (Mon, 03 Feb 2025) EllapsedTime: 8.0 seconds RetCode: 0 Status: OK