Package: AnVILGCP Version: 1.0.0 Command: /Library/Frameworks/R.framework/Resources/bin/R CMD build --keep-empty-dirs --no-resave-data AnVILGCP StartedAt: 2025-02-03 18:43:36 -0500 (Mon, 03 Feb 2025) EndedAt: 2025-02-03 18:43:49 -0500 (Mon, 03 Feb 2025) EllapsedTime: 12.6 seconds RetCode: 0 Status: OK PackageFile: AnVILGCP_1.0.0.tar.gz PackageFileSize: 420.3 KiB