Package: AnVILGCP Version: 1.0.0 Command: /Library/Frameworks/R.framework/Resources/bin/R CMD check --install=check:AnVILGCP.install-out.txt --library=/Library/Frameworks/R.framework/Resources/library --no-vignettes --timings AnVILGCP_1.0.0.tar.gz StartedAt: 2025-02-04 11:24:49 -0500 (Tue, 04 Feb 2025) EndedAt: 2025-02-04 11:25:32 -0500 (Tue, 04 Feb 2025) EllapsedTime: 43.3 seconds RetCode: 0 Status: OK CheckDir: AnVILGCP.Rcheck Warnings: 0