Package: AnVILGCP Version: 1.0.0 Command: /home/biocbuild/bbs-3.20-bioc/R/bin/R CMD check --install=check:AnVILGCP.install-out.txt --library=/home/biocbuild/bbs-3.20-bioc/R/site-library --timings AnVILGCP_1.0.0.tar.gz StartedAt: 2025-02-03 20:04:38 -0500 (Mon, 03 Feb 2025) EndedAt: 2025-02-03 20:05:12 -0500 (Mon, 03 Feb 2025) EllapsedTime: 34.1 seconds RetCode: 0 Status: OK CheckDir: AnVILGCP.Rcheck Warnings: 0