Package: AnVILGCP Version: 1.0.0 Command: F:\biocbuild\bbs-3.20-bioc\R\bin\R.exe CMD check --no-multiarch --install=check:AnVILGCP.install-out.txt --library=F:\biocbuild\bbs-3.20-bioc\R\library --no-vignettes --timings AnVILGCP_1.0.0.tar.gz StartedAt: 2025-02-03 23:09:53 -0500 (Mon, 03 Feb 2025) EndedAt: 2025-02-03 23:10:49 -0500 (Mon, 03 Feb 2025) EllapsedTime: 55.9 seconds RetCode: 0 Status: OK CheckDir: AnVILGCP.Rcheck Warnings: 0