Package: AnVILGCP Version: 1.0.0 Command: F:\biocbuild\bbs-3.20-bioc\R\bin\R.exe CMD INSTALL AnVILGCP StartedAt: 2025-02-03 15:44:19 -0500 (Mon, 03 Feb 2025) EndedAt: 2025-02-03 15:44:54 -0500 (Mon, 03 Feb 2025) EllapsedTime: 35.2 seconds RetCode: 0 Status: OK