Package: AnVILGCP Version: 1.0.0 Command: /home/biocbuild/R/R/bin/R CMD build --keep-empty-dirs --no-resave-data AnVILGCP StartedAt: 2025-02-03 21:37:16 -0000 (Mon, 03 Feb 2025) EndedAt: 2025-02-03 21:37:27 -0000 (Mon, 03 Feb 2025) EllapsedTime: 11.0 seconds RetCode: 0 Status: OK PackageFile: AnVILGCP_1.0.0.tar.gz PackageFileSize: 445.4 KiB