Package: AnVILGCP Version: 1.0.0 Command: /home/biocbuild/R/R/bin/R CMD INSTALL AnVILGCP StartedAt: 2025-02-03 20:28:36 -0000 (Mon, 03 Feb 2025) EndedAt: 2025-02-03 20:28:45 -0000 (Mon, 03 Feb 2025) EllapsedTime: 8.6 seconds RetCode: 0 Status: OK