Package: AnVILWorkflow Version: 1.6.0 Command: /home/biocbuild/R/R/bin/R CMD build --keep-empty-dirs --no-resave-data AnVILWorkflow StartedAt: 2025-02-03 21:37:18 -0000 (Mon, 03 Feb 2025) EndedAt: 2025-02-03 21:37:28 -0000 (Mon, 03 Feb 2025) EllapsedTime: 10.0 seconds RetCode: 0 Status: OK PackageFile: AnVILWorkflow_1.6.0.tar.gz PackageFileSize: 1.142 MiB