Package: AnVILWorkflow Version: 1.6.0 Command: /home/biocbuild/R/R/bin/R CMD INSTALL AnVILWorkflow StartedAt: 2025-02-03 20:57:42 -0000 (Mon, 03 Feb 2025) EndedAt: 2025-02-03 20:57:49 -0000 (Mon, 03 Feb 2025) EllapsedTime: 6.9 seconds RetCode: 0 Status: OK