Package: Anaquin Version: 2.30.0 Command: rm -rf Anaquin.buildbin-libdir && mkdir Anaquin.buildbin-libdir && /Users/biocbuild/BBS/utils/build-universal.sh Anaquin_2.30.0.tar.gz /Library/Frameworks/R.framework/Resources/bin/R Anaquin.buildbin-libdir StartedAt: 2025-02-05 14:47:08 -0500 (Wed, 05 Feb 2025) EndedAt: 2025-02-05 14:47:15 -0500 (Wed, 05 Feb 2025) EllapsedTime: 6.7 seconds RetCode: 0 Status: OK PackageFile: Anaquin_2.30.0.tgz PackageFileSize: 455.7 KiB