Package: Anaquin Version: 2.30.0 Command: /Library/Frameworks/R.framework/Resources/bin/R CMD build --keep-empty-dirs --no-resave-data Anaquin StartedAt: 2025-01-30 18:46:02 -0500 (Thu, 30 Jan 2025) EndedAt: 2025-01-30 18:46:19 -0500 (Thu, 30 Jan 2025) EllapsedTime: 16.7 seconds RetCode: 0 Status: OK PackageFile: Anaquin_2.30.0.tar.gz PackageFileSize: 451.4 KiB