Package: Anaquin Version: 2.30.0 Command: /Library/Frameworks/R.framework/Resources/bin/R CMD check --install=check:Anaquin.install-out.txt --library=/Library/Frameworks/R.framework/Resources/library --no-vignettes --timings Anaquin_2.30.0.tar.gz StartedAt: 2025-02-04 11:10:51 -0500 (Tue, 04 Feb 2025) EndedAt: 2025-02-04 11:11:57 -0500 (Tue, 04 Feb 2025) EllapsedTime: 65.8 seconds RetCode: 0 Status: OK CheckDir: Anaquin.Rcheck Warnings: 0