Package: Anaquin Version: 2.30.0 Command: /Library/Frameworks/R.framework/Resources/bin/R CMD INSTALL Anaquin StartedAt: 2025-02-03 15:46:30 -0500 (Mon, 03 Feb 2025) EndedAt: 2025-02-03 15:46:36 -0500 (Mon, 03 Feb 2025) EllapsedTime: 5.9 seconds RetCode: 0 Status: OK