Package: Anaquin Version: 2.30.0 Command: /Library/Frameworks/R.framework/Resources/bin/R CMD build --keep-empty-dirs --no-resave-data Anaquin StartedAt: 2024-11-19 15:54:44 -0500 (Tue, 19 Nov 2024) EndedAt: 2024-11-19 15:55:17 -0500 (Tue, 19 Nov 2024) EllapsedTime: 33.1 seconds RetCode: 0 Status: OK PackageFile: Anaquin_2.30.0.tar.gz PackageFileSize: 452.4 KiB